BEGIN:VCALENDAR
VERSION:2.0
PRODID:-//Biro Umum Setda Provinsi Bali - ECPv6.13.2.1//NONSGML v1.0//EN
CALSCALE:GREGORIAN
METHOD:PUBLISH
X-ORIGINAL-URL:https://biroumum.baliprov.go.id
X-WR-CALDESC:Events for Biro Umum Setda Provinsi Bali
REFRESH-INTERVAL;VALUE=DURATION:PT1H
X-Robots-Tag:noindex
X-PUBLISHED-TTL:PT1H
BEGIN:VTIMEZONE
TZID:Asia/Makassar
BEGIN:STANDARD
TZOFFSETFROM:+0800
TZOFFSETTO:+0800
TZNAME:WITA
DTSTART:20250101T000000
END:STANDARD
END:VTIMEZONE
BEGIN:VEVENT
DTSTART;TZID=Asia/Makassar:20251104T130000
DTEND;TZID=Asia/Makassar:20251104T170000
DTSTAMP:20260421T023246
CREATED:20251015T012714Z
LAST-MODIFIED:20251015T012714Z
UID:7614-1762261200-1762275600@biroumum.baliprov.go.id
SUMMARY:Kunjungan kuliah kerja lapangan (KKL) Universitas Diponegoro
DESCRIPTION:
URL:https://biroumum.baliprov.go.id/event/kunjungan-kuliah-kerja-lapangan-kkl-universitas-diponegoro/
LOCATION:Wiswa Sabha Utama\, Jl. Basuki Rahmat No.1\, Sumerta Kelod\, Kec. Denpasar Tim.\, Kota Denpasar\, Denpasar\, Bali\, 80366\, Indonesia
CATEGORIES:kunjungan kerja
END:VEVENT
END:VCALENDAR